BEGIN:VCALENDAR
VERSION:2.0
PRODID:-//Tukios.com/
BEGIN:VEVENT
UID:623cac6c-fb0c-4c46-900f-56dfacd0993b@www.lawrencesorensenfuneralhome.com
DTSTAMP:20260420T234320Z
DTSTART:20260424T180000Z
DTEND:20260424T190000Z
SUMMARY:Graveside Service
DESCRIPTION:
URL:https://www.lawrencesorensenfuneralhome.com/obituaries/horace-yearwood
LOCATION:Ridgecrest Cemetery 200 Ridgecrest Road  Jackson TN 38305
GEO:35.6670238;-88.8216016
END:VEVENT
END:VCALENDAR