BEGIN:VCALENDAR
VERSION:2.0
PRODID:-//Tukios.com/
BEGIN:VEVENT
UID:a0c81441-443d-4f90-b222-a5172e89130e@www.lawrencesorensenfuneralhome.com
DTSTAMP:20260420T195933Z
DTSTART:20260501T180000Z
DTEND:20260501T190000Z
SUMMARY:Burial
DESCRIPTION:
URL:https://www.lawrencesorensenfuneralhome.com/obituaries/christine-cupples
LOCATION:Highland Memorial Gardens  North Highland Avenue  Jackson TN 
	38305
GEO:35.73015;-88.8461473
END:VEVENT
END:VCALENDAR