BEGIN:VCALENDAR
VERSION:2.0
PRODID:-//Tukios.com/
BEGIN:VEVENT
UID:d0eeacc4-2b81-49fc-8be0-88260a5deb28@www.lawrencesorensenfuneralhome.com
DTSTAMP:20260420T195424Z
DTSTART:20260423T190000Z
DTEND:20260423T200000Z
SUMMARY:Funeral Service
DESCRIPTION:
URL:https://www.lawrencesorensenfuneralhome.com/obituaries/christine-cupples
LOCATION:Lawrence-Sorensen Funeral Home 403 East Baltimore Street  
	Jackson TN 38301
GEO:35.6135986;-88.8161557
END:VEVENT
END:VCALENDAR