BEGIN:VCALENDAR
VERSION:2.0
PRODID:-//Tukios.com/
BEGIN:VEVENT
UID:ce15fa59-eff6-4f1f-be01-10aab797591d@www.lawrencesorensenfuneralhome.com
DTSTAMP:20260420T195617Z
DTSTART:20260423T170000Z
DTEND:20260423T190000Z
SUMMARY:Visitation
DESCRIPTION:
URL:https://www.lawrencesorensenfuneralhome.com/obituaries/christine-cupples
LOCATION:Lawrence-Sorensen Funeral Home 403 East Baltimore Street  
	Jackson TN 38301
GEO:35.6135986;-88.8161557
END:VEVENT
END:VCALENDAR